BEGIN:VCALENDAR
VERSION:2.0
PRODID:-//Brooklyn Community Board 11 - ECPv6.15.17.1//NONSGML v1.0//EN
CALSCALE:GREGORIAN
METHOD:PUBLISH
X-ORIGINAL-URL:https://www.brooklyncb11.org
X-WR-CALDESC:Events for Brooklyn Community Board 11
REFRESH-INTERVAL;VALUE=DURATION:PT1H
X-Robots-Tag:noindex
X-PUBLISHED-TTL:PT1H
BEGIN:VTIMEZONE
TZID:America/New_York
BEGIN:DAYLIGHT
TZOFFSETFROM:-0500
TZOFFSETTO:-0400
TZNAME:EDT
DTSTART:20220313T070000
END:DAYLIGHT
BEGIN:STANDARD
TZOFFSETFROM:-0400
TZOFFSETTO:-0500
TZNAME:EST
DTSTART:20221106T060000
END:STANDARD
BEGIN:DAYLIGHT
TZOFFSETFROM:-0500
TZOFFSETTO:-0400
TZNAME:EDT
DTSTART:20230312T070000
END:DAYLIGHT
BEGIN:STANDARD
TZOFFSETFROM:-0400
TZOFFSETTO:-0500
TZNAME:EST
DTSTART:20231105T060000
END:STANDARD
BEGIN:DAYLIGHT
TZOFFSETFROM:-0500
TZOFFSETTO:-0400
TZNAME:EDT
DTSTART:20240310T070000
END:DAYLIGHT
BEGIN:STANDARD
TZOFFSETFROM:-0400
TZOFFSETTO:-0500
TZNAME:EST
DTSTART:20241103T060000
END:STANDARD
END:VTIMEZONE
BEGIN:VEVENT
DTSTART;TZID=America/New_York:20230209T190000
DTEND;TZID=America/New_York:20230209T190000
DTSTAMP:20260421T052805
CREATED:20230201T002926Z
LAST-MODIFIED:20230201T002926Z
UID:1872-1675969200-1675969200@www.brooklyncb11.org
SUMMARY:Meeting Notice
DESCRIPTION:Pursuant to Executive Order No. 315\, Please take notice that Community Board 11 will hold its general meeting virtually on:\n\n \n\nDate: Thursday\, February 9\, 2023\n\n \n\nPlace: Zoom Teleconference\n\n \n\nTime: 7 PM\n\n \n\nRegister in advance for this webinar at: http://bit.ly/3JsPhvi or scan the QR code:\n\n \n\n \n\nAfter registering you will receive a confirmation email containing information about joining the webinar.\n\n \n\nThe meeting will be recorded and livestreamed to www.facebook.com/brooklyncb11\n\nShare this article on...
URL:https://www.brooklyncb11.org/event/meeting-notice-19/
LOCATION:Zoom Webinar
ATTACH;FMTTYPE=image/jpeg:https://www.brooklyncb11.org/wp-content/uploads/2020/11/Zoom.logo_.jpg
END:VEVENT
BEGIN:VEVENT
DTSTART;TZID=America/New_York:20230228T183000
DTEND;TZID=America/New_York:20230228T183000
DTSTAMP:20260421T052805
CREATED:20230223T004114Z
LAST-MODIFIED:20230223T004114Z
UID:1884-1677609000-1677609000@www.brooklyncb11.org
SUMMARY:Meeting Notice
DESCRIPTION:Please take notice that the Transportation Committee will meet virtually pursuant to Executive Order 339 on:\n\n \n\nDate: Tuesday\, February 28\, 2023\n\n \n\nTime: 6:30 PM\n\n \n\nAn electronic invitation will be sent to the committee under separate cover.\n\n \n\nThe public is invited to attend and can register via http://bit.ly/3ZbH5nT\n\n \n\nAgenda:\n\n \n\nDiscussion and recommendation regarding the Brooklyn Bus Redesign proposal.\n\nShare this article on...
URL:https://www.brooklyncb11.org/event/meeting-notice-20/
LOCATION:Zoom Webinar
END:VEVENT
END:VCALENDAR