BEGIN:VCALENDAR
VERSION:2.0
PRODID:-//Brooklyn Community Board 11 - ECPv6.15.17.1//NONSGML v1.0//EN
CALSCALE:GREGORIAN
METHOD:PUBLISH
X-WR-CALNAME:Brooklyn Community Board 11
X-ORIGINAL-URL:https://www.brooklyncb11.org
X-WR-CALDESC:Events for Brooklyn Community Board 11
REFRESH-INTERVAL;VALUE=DURATION:PT1H
X-Robots-Tag:noindex
X-PUBLISHED-TTL:PT1H
BEGIN:VTIMEZONE
TZID:America/New_York
BEGIN:DAYLIGHT
TZOFFSETFROM:-0500
TZOFFSETTO:-0400
TZNAME:EDT
DTSTART:20210314T070000
END:DAYLIGHT
BEGIN:STANDARD
TZOFFSETFROM:-0400
TZOFFSETTO:-0500
TZNAME:EST
DTSTART:20211107T060000
END:STANDARD
BEGIN:DAYLIGHT
TZOFFSETFROM:-0500
TZOFFSETTO:-0400
TZNAME:EDT
DTSTART:20220313T070000
END:DAYLIGHT
BEGIN:STANDARD
TZOFFSETFROM:-0400
TZOFFSETTO:-0500
TZNAME:EST
DTSTART:20221106T060000
END:STANDARD
BEGIN:DAYLIGHT
TZOFFSETFROM:-0500
TZOFFSETTO:-0400
TZNAME:EDT
DTSTART:20230312T070000
END:DAYLIGHT
BEGIN:STANDARD
TZOFFSETFROM:-0400
TZOFFSETTO:-0500
TZNAME:EST
DTSTART:20231105T060000
END:STANDARD
END:VTIMEZONE
BEGIN:VEVENT
DTSTART;TZID=America/New_York:20221213T190000
DTEND;TZID=America/New_York:20221213T190000
DTSTAMP:20260421T081659
CREATED:20221208T012313Z
LAST-MODIFIED:20221208T012507Z
UID:1845-1670958000-1670958000@www.brooklyncb11.org
SUMMARY:Meeting Notice
DESCRIPTION:Pursuant to Emergency Executive Order 267\, please take notice that Community Board 11 will hold its genera meeting virtually on: \nDate: Tuesday\, December 13\, 2022 \nTime: 7pm \nPlace: Zoom Teleconference \nRegister in advance for this webinar: https://bit.ly/3XXjyr3 or scan the QR Code: \n\nThe meeting will be recorded and livestreamed to www.facebook.com/brooklyncb11 \nShare this article on...
URL:https://www.brooklyncb11.org/event/1845/
LOCATION:Zoom Webinar
ATTACH;FMTTYPE=image/jpeg:https://www.brooklyncb11.org/wp-content/uploads/2020/11/Zoom.logo_.jpg
END:VEVENT
END:VCALENDAR