BEGIN:VCALENDAR
VERSION:2.0
PRODID:-//Brooklyn Community Board 11 - ECPv6.15.17.1//NONSGML v1.0//EN
CALSCALE:GREGORIAN
METHOD:PUBLISH
X-WR-CALNAME:Brooklyn Community Board 11
X-ORIGINAL-URL:https://www.brooklyncb11.org
X-WR-CALDESC:Events for Brooklyn Community Board 11
REFRESH-INTERVAL;VALUE=DURATION:PT1H
X-Robots-Tag:noindex
X-PUBLISHED-TTL:PT1H
BEGIN:VTIMEZONE
TZID:America/New_York
BEGIN:DAYLIGHT
TZOFFSETFROM:-0500
TZOFFSETTO:-0400
TZNAME:EDT
DTSTART:20220313T070000
END:DAYLIGHT
BEGIN:STANDARD
TZOFFSETFROM:-0400
TZOFFSETTO:-0500
TZNAME:EST
DTSTART:20221106T060000
END:STANDARD
BEGIN:DAYLIGHT
TZOFFSETFROM:-0500
TZOFFSETTO:-0400
TZNAME:EDT
DTSTART:20230312T070000
END:DAYLIGHT
BEGIN:STANDARD
TZOFFSETFROM:-0400
TZOFFSETTO:-0500
TZNAME:EST
DTSTART:20231105T060000
END:STANDARD
BEGIN:DAYLIGHT
TZOFFSETFROM:-0500
TZOFFSETTO:-0400
TZNAME:EDT
DTSTART:20240310T070000
END:DAYLIGHT
BEGIN:STANDARD
TZOFFSETFROM:-0400
TZOFFSETTO:-0500
TZNAME:EST
DTSTART:20241103T060000
END:STANDARD
END:VTIMEZONE
BEGIN:VEVENT
DTSTART;TZID=America/New_York:20230424T190000
DTEND;TZID=America/New_York:20230424T190000
DTSTAMP:20260421T041202
CREATED:20230415T072710Z
LAST-MODIFIED:20230415T072748Z
UID:1917-1682362800-1682362800@www.brooklyncb11.org
SUMMARY:Notice of Public Hearing
DESCRIPTION:Please take notice that Community Board 11 will hold a public hearing on: \n\n\n\nDate:  Monday\, April 24\, 2023 \n\n\n\nPlace: Il Centro \n\n\n\n8711 18th Avenue \n\n\n\nTime: 7:00 PM \n\n\n\nIn the matter of: \n\n\n\nApplication # C230018 ZMK\, N230019 ZRK \n\n\n\nCEQR Number: 23DCP024K \n\n\n\nProject Name: 1421 86th Street Rezoning \n\n\n\nThe applicant seeks a zoning map amendment to rezone Block 6340\, Lots 1\, 60\, and 66. (project area) from R4/C2-2 to R7A/C2-4 and a zoning text amendment to map the project area as a Mandatory Inclusionary Housing (MIH) area to facilitate the development of a nine-story mixed-use building with 57 dwelling units that includes 17 affordable units\, and ground floor commercial use. \n\n\n\nWritten comments may be submitted via email at bk11@cb.nyc.gov\, mail\, or  https://forms.gle/2abYrSVmNadCpAAg9 \n\n\n\nThe meeting will be livestreamed to http://bit.ly/3o6Uroh \nShare this article on...
URL:https://www.brooklyncb11.org/event/notice-of-public-hearing/
LOCATION:Il Centro\, 8711 18th Avenue\, Brooklyn\, NY\, 11214
END:VEVENT
END:VCALENDAR