BEGIN:VCALENDAR
VERSION:2.0
PRODID:-//Brooklyn Community Board 11 - ECPv6.15.17.1//NONSGML v1.0//EN
CALSCALE:GREGORIAN
METHOD:PUBLISH
X-WR-CALNAME:Brooklyn Community Board 11
X-ORIGINAL-URL:https://www.brooklyncb11.org
X-WR-CALDESC:Events for Brooklyn Community Board 11
REFRESH-INTERVAL;VALUE=DURATION:PT1H
X-Robots-Tag:noindex
X-PUBLISHED-TTL:PT1H
BEGIN:VTIMEZONE
TZID:America/New_York
BEGIN:DAYLIGHT
TZOFFSETFROM:-0500
TZOFFSETTO:-0400
TZNAME:EDT
DTSTART:20220313T070000
END:DAYLIGHT
BEGIN:STANDARD
TZOFFSETFROM:-0400
TZOFFSETTO:-0500
TZNAME:EST
DTSTART:20221106T060000
END:STANDARD
BEGIN:DAYLIGHT
TZOFFSETFROM:-0500
TZOFFSETTO:-0400
TZNAME:EDT
DTSTART:20230312T070000
END:DAYLIGHT
BEGIN:STANDARD
TZOFFSETFROM:-0400
TZOFFSETTO:-0500
TZNAME:EST
DTSTART:20231105T060000
END:STANDARD
BEGIN:DAYLIGHT
TZOFFSETFROM:-0500
TZOFFSETTO:-0400
TZNAME:EDT
DTSTART:20240310T070000
END:DAYLIGHT
BEGIN:STANDARD
TZOFFSETFROM:-0400
TZOFFSETTO:-0500
TZNAME:EST
DTSTART:20241103T060000
END:STANDARD
END:VTIMEZONE
BEGIN:VEVENT
DTSTART;TZID=America/New_York:20230403T190000
DTEND;TZID=America/New_York:20230403T190000
DTSTAMP:20260421T054147
CREATED:20230324T221235Z
LAST-MODIFIED:20230324T221322Z
UID:1907-1680548400-1680548400@www.brooklyncb11.org
SUMMARY:April Meeting Notice
DESCRIPTION:Please take notice that pursuant to Executive Order\, Community Board 11 will hold its general meeting virtually on: \n\n\n\nDate:   Monday\, April 3\, 2023 \n\n\n\nTime:  7PM \n\n\n\nPlace: Zoom Teleconference \n\n\n\nRegister in advance for this webinar via  http://bit.ly/3ZN4v3R \n\n\n\nAfter registering\, you will receive a confirmation email containing information about joining the webinar. \n\n\n\nThe meeting will be livestreamed to www.facebook.com/brooklyncb11 \nShare this article on...
URL:https://www.brooklyncb11.org/event/1907/
LOCATION:Zoom Webinar
ATTACH;FMTTYPE=image/jpeg:https://www.brooklyncb11.org/wp-content/uploads/2020/11/Zoom.logo_.jpg
END:VEVENT
END:VCALENDAR