BEGIN:VCALENDAR
VERSION:2.0
PRODID:-//Brooklyn Community Board 11 - ECPv6.15.17.1//NONSGML v1.0//EN
CALSCALE:GREGORIAN
METHOD:PUBLISH
X-ORIGINAL-URL:https://www.brooklyncb11.org
X-WR-CALDESC:Events for Brooklyn Community Board 11
REFRESH-INTERVAL;VALUE=DURATION:PT1H
X-Robots-Tag:noindex
X-PUBLISHED-TTL:PT1H
BEGIN:VTIMEZONE
TZID:America/New_York
BEGIN:DAYLIGHT
TZOFFSETFROM:-0500
TZOFFSETTO:-0400
TZNAME:EDT
DTSTART:20220313T070000
END:DAYLIGHT
BEGIN:STANDARD
TZOFFSETFROM:-0400
TZOFFSETTO:-0500
TZNAME:EST
DTSTART:20221106T060000
END:STANDARD
BEGIN:DAYLIGHT
TZOFFSETFROM:-0500
TZOFFSETTO:-0400
TZNAME:EDT
DTSTART:20230312T070000
END:DAYLIGHT
BEGIN:STANDARD
TZOFFSETFROM:-0400
TZOFFSETTO:-0500
TZNAME:EST
DTSTART:20231105T060000
END:STANDARD
BEGIN:DAYLIGHT
TZOFFSETFROM:-0500
TZOFFSETTO:-0400
TZNAME:EDT
DTSTART:20240310T070000
END:DAYLIGHT
BEGIN:STANDARD
TZOFFSETFROM:-0400
TZOFFSETTO:-0500
TZNAME:EST
DTSTART:20241103T060000
END:STANDARD
END:VTIMEZONE
BEGIN:VEVENT
DTSTART;TZID=America/New_York:20230131T190000
DTEND;TZID=America/New_York:20230131T190000
DTSTAMP:20260421T081753
CREATED:20230126T005227Z
LAST-MODIFIED:20230126T005227Z
UID:1868-1675191600-1675191600@www.brooklyncb11.org
SUMMARY:Meeting Notice
DESCRIPTION:Please take notice that the Planning and Zoning Committee will meet virtually on:\n\n \n\nDate:  Tuesday\, January 31\, 2023\n\n \n\nTime:  7:00 PM\n\n \n\nAgenda:\n\n \n\n 	Proposed ULURP Application  7120 New Utrecht Avenue\n\n \n\nBlock 6180 Lots 31 and 33\n\n \n\nPresentation on a proposed zoning map amendment for 7120 New Utrecht Avenue from an existing R5 zoning designation to a C4-4L and eliminate the existing C2-2 overlay\, which would facilitate the redevelopment of the premises with a new mixed-use building.\n\n \n\nAn electronic invitation will be sent to the committee under separate cover.\n\n \n\nThe public is invited to attend and can register by clicking this link: http://bit.ly/3HfniwG\n\n \n\nThe meeting will be livestreamed to www.facebook.com/brooklyncb11\n\nShare this article on...
URL:https://www.brooklyncb11.org/event/meeting-notice-18/
LOCATION:Zoom Webinar
ATTACH;FMTTYPE=image/jpeg:https://www.brooklyncb11.org/wp-content/uploads/2020/11/Zoom.logo_.jpg
END:VEVENT
END:VCALENDAR