BEGIN:VCALENDAR
VERSION:2.0
PRODID:-//Brooklyn Community Board 11 - ECPv6.15.17.1//NONSGML v1.0//EN
CALSCALE:GREGORIAN
METHOD:PUBLISH
X-ORIGINAL-URL:https://www.brooklyncb11.org
X-WR-CALDESC:Events for Brooklyn Community Board 11
REFRESH-INTERVAL;VALUE=DURATION:PT1H
X-Robots-Tag:noindex
X-PUBLISHED-TTL:PT1H
BEGIN:VTIMEZONE
TZID:America/New_York
BEGIN:DAYLIGHT
TZOFFSETFROM:-0500
TZOFFSETTO:-0400
TZNAME:EDT
DTSTART:20220313T070000
END:DAYLIGHT
BEGIN:STANDARD
TZOFFSETFROM:-0400
TZOFFSETTO:-0500
TZNAME:EST
DTSTART:20221106T060000
END:STANDARD
BEGIN:DAYLIGHT
TZOFFSETFROM:-0500
TZOFFSETTO:-0400
TZNAME:EDT
DTSTART:20230312T070000
END:DAYLIGHT
BEGIN:STANDARD
TZOFFSETFROM:-0400
TZOFFSETTO:-0500
TZNAME:EST
DTSTART:20231105T060000
END:STANDARD
BEGIN:DAYLIGHT
TZOFFSETFROM:-0500
TZOFFSETTO:-0400
TZNAME:EDT
DTSTART:20240310T070000
END:DAYLIGHT
BEGIN:STANDARD
TZOFFSETFROM:-0400
TZOFFSETTO:-0500
TZNAME:EST
DTSTART:20241103T060000
END:STANDARD
END:VTIMEZONE
BEGIN:VEVENT
DTSTART;TZID=America/New_York:20230126T183000
DTEND;TZID=America/New_York:20230126T183000
DTSTAMP:20260421T081751
CREATED:20230119T043901Z
LAST-MODIFIED:20230119T043901Z
UID:1864-1674757800-1674757800@www.brooklyncb11.org
SUMMARY:Notice of Meeting
DESCRIPTION:Please be advised that the Transportation Committee will meet virtually on: \nDate:  Thursday\, January 26\, 2023 \nTime:  6:30 PM \nThe committee will review the draft Brooklyn Bus Network Redesign proposal. \nThe public is invited to attend and can register in advance via https://bit.ly/3XHvmfU \nYou may also submit comments and/or concerns via https://forms.gle/7PWK9KN5PrMCCbDq9 \nThe meeting will be recorded and livestreamed to www.facebook.com/brooklyncb11 \nShare this article on...
URL:https://www.brooklyncb11.org/event/notice-of-meeting-14/
LOCATION:Zoom Webinar
ATTACH;FMTTYPE=image/jpeg:https://www.brooklyncb11.org/wp-content/uploads/2020/11/Zoom.logo_.jpg
END:VEVENT
END:VCALENDAR